BEGIN:VCALENDAR
VERSION:2.0
PRODID:-//eventon.com NONSGML v1.0//EN
CALSCALE:GREGORIAN
METHOD:PUBLISH
BEGIN:VEVENT
UID:69e732ed9fb94
DTSTAMP:20260421T081853Z
DTSTART:20230617T070000Z
DTEND:20230618T143000Z
LOCATION:Hotel Grischa Talstrasse 3
SUMMARY:Video Basics mit Theorie\,  Praxis und Post-Production
DESCRIPTION:Um was geht es In diesem zweitägigen Workshop in den Bergen in
  Davos gebe ich dir das nötige Basiswissen\,  damit du mit deiner Kamera p
 rofessionelle Filmen erstellen kannst. Von der Kamerabedienung über das Fi
 lmen eines Kurzclips bis hin zum Schnitt und Vertonung: am Ende des Worksho
 ps besitzt du das nötige[..]\nhttps://bissig.ch/events/video-basics-mit-th
 eorie-praxis-und-post-production/
URL:https://bissig.ch/events/video-basics-mit-theorie-praxis-und-post-production/
END:VEVENT
END:VCALENDAR