BEGIN:VCALENDAR
VERSION:2.0
PRODID:-//eventon.com NONSGML v1.0//EN
CALSCALE:GREGORIAN
METHOD:PUBLISH
BEGIN:VEVENT
UID:69e744c3b5c5a
DTSTAMP:20260421T093459Z
DTSTART:20220827T070000Z
DTEND:20220828T140000Z
LOCATION:Revier Hotel Lenzerheide Voa Principala 84\,  7078 Lenzerheide
SUMMARY:Action Workshop Lenzerheide
DESCRIPTION:Canon&nbsp;Ambassador und Outdoor-Fotograf Martin Bissig zeigt 
 dir bei diesem zweitÃ¤gigen&nbsp;Foto-Workshop\,  wie du Actionszenen einfÃ
 ¤ngst und dabei alles aus deiner Kamera und deinen Bildern herausholst. Die
  wunderschÃ¶ne Natur-Location im Bikepark von Lenzerheide bildet eine perfe
 kte Kulisse fÃ¼r actionreiche Bike-Fotos: Speed beim Downhill\,  SprÃ¼nge â
 €“ oder die perfekte Beherrschung von KÃ¶rper und[..]\nhttps://bissig.ch/ev
 ents/action-workshop-lenzerheide-2/
URL:https://bissig.ch/events/action-workshop-lenzerheide-2/
END:VEVENT
END:VCALENDAR